BEGIN:VCALENDAR
VERSION:2.0
PRODID:-//InvisionCommunity Events 4.7.12//EN
METHOD:PUBLISH
CALSCALE:GREGORIAN
REFRESH-INTERVAL:PT15M
X-PUBLISHED-TTL:PT15M
X-WR-CALNAME:Wydarzenia
NAME:Wydarzenia
BEGIN:VTIMEZONE
TZID:Europe/London
TZURL:http://tzurl.org/zoneinfo/Europe/London
X-LIC-LOCATION:Europe/London
BEGIN:DAYLIGHT
TZOFFSETFROM:+0000
TZOFFSETTO:+0100
TZNAME:BST
DTSTART:20160327T020000Z
RRULE:FREQ=YEARLY;BYMONTH=3;BYDAY=-1SU
END:DAYLIGHT
BEGIN:STANDARD
TZOFFSETFROM:+0100
TZOFFSETTO:+0000
TZNAME:GMT
DTSTART:20161030T020000Z
RRULE:FREQ=YEARLY;BYMONTH=10;BYDAY=-1SU
END:STANDARD
END:VTIMEZONE
BEGIN:VEVENT
SUMMARY:Pogoria Treffen 2016
DTSTAMP:20160404T151050Z
SEQUENCE:0
UID:13-2-a07cf16d733bee2b612eb2f60165f28c@octavia.team
ORGANIZER;CN="FakeRS":powiadomienia@octavia.team
DESCRIPTION:\n\n	!!! ALL CAR BRANDS ALLOWED !!!\n\n\n	Jeśli podobał s
	ię wam nasz ubiegłoroczny\, totalnie chilloutowy event na plaży zalewu 
	Pogoria III w Dąbrowie Górniczej\, w tym sezonie będzie jeszcze lepiej!
	 17 lipca przywita was super miejscówa\, leżakowo-plażowy klimat i zero
	 stresu związanego z konkursami i prezentacjami.\n\n\n	Wszystkie informac
	je na temat wydarzenia\, będą systematycznie pojawiać się na Fejsie\,
	 więc śledźcie uważnie nasz Fanpage. Do zobaczenia na Pogorii!\n\n\n	P
	S. OCZYWIŚCIE JAK CO ROKU OBOWIĄZUJE SELEKCJA\n\n	ZGŁOSZENIA SAMOCHODÓ
	W WYSYŁAMY NA POGORIATREFFEN@GMAIL.COM\n\n\n\n	STRONA WYDARZENIA\n\n\n\n	
	(Tekst z wydarzenia Facebooka)\n\n\n\n	Byłem na ubiegłorocznej edycji i 
	mimo kilku zastrzeżeń mogę szczerze polecić to wydarzenie !\n\n\n\n	Dl
	a chętnych : Chętnie pomogę w dojeździe i przetrzymaniu auta (Mieszkam
	 obok)\n\n
DTSTART;VALUE=DATE:20160717
ATTENDEE;CN="FakeRS";CUTYPE=INDIVIDUAL;PARTSTAT=ACCEPTED:pow
	iadomienia@octavia.team
END:VEVENT
END:VCALENDAR
