BEGIN:VCALENDAR
VERSION:2.0
PRODID:-//InvisionCommunity Events 4.7.12//EN
METHOD:PUBLISH
CALSCALE:GREGORIAN
REFRESH-INTERVAL:PT15M
X-PUBLISHED-TTL:PT15M
X-WR-CALNAME:Wydarzenia
NAME:Wydarzenia
BEGIN:VTIMEZONE
TZID:Europe/London
TZURL:http://tzurl.org/zoneinfo/Europe/London
X-LIC-LOCATION:Europe/London
BEGIN:DAYLIGHT
TZOFFSETFROM:+0000
TZOFFSETTO:+0100
TZNAME:BST
DTSTART:20160327T020000Z
RRULE:FREQ=YEARLY;BYMONTH=3;BYDAY=-1SU
END:DAYLIGHT
BEGIN:STANDARD
TZOFFSETFROM:+0100
TZOFFSETTO:+0000
TZNAME:GMT
DTSTART:20161030T020000Z
RRULE:FREQ=YEARLY;BYMONTH=10;BYDAY=-1SU
END:STANDARD
END:VTIMEZONE
BEGIN:VEVENT
SUMMARY:Rajdowy WOŚP\, jeździmy dla dzieciaków
DTSTAMP:20151216T192738Z
SEQUENCE:0
UID:2-2-a07cf16d733bee2b612eb2f60165f28c@octavia.team
ORGANIZER;CN="Lukicrx":powiadomienia@octavia.team
DESCRIPTION:\n\n	Od 9:00 do 15:00 wozimy chętnych wrażeń prawego fote
	la samochodu rajdowego w imię szczytnego celu jakim jest pomoc najmłodsz
	ym\, to już 3-ci taki event w Węgierskiej Górce \, zapraszam\, świetna
	 impreza \n\n\n	\n\n\n\n	\n\n\n\n	\n\n
DTSTART:20160110T080000Z
DTEND:20160110T140000Z
END:VEVENT
END:VCALENDAR
