BEGIN:VCALENDAR
VERSION:2.0
PRODID:-//InvisionCommunity Events 4.7.12//EN
METHOD:PUBLISH
CALSCALE:GREGORIAN
REFRESH-INTERVAL:PT15M
X-PUBLISHED-TTL:PT15M
X-WR-CALNAME:Wydarzenia
NAME:Wydarzenia
BEGIN:VTIMEZONE
TZID:Europe/London
TZURL:http://tzurl.org/zoneinfo/Europe/London
X-LIC-LOCATION:Europe/London
BEGIN:DAYLIGHT
TZOFFSETFROM:+0000
TZOFFSETTO:+0100
TZNAME:BST
DTSTART:20170326T020000Z
RRULE:FREQ=YEARLY;BYMONTH=3;BYDAY=-1SU
END:DAYLIGHT
BEGIN:STANDARD
TZOFFSETFROM:+0100
TZOFFSETTO:+0000
TZNAME:GMT
DTSTART:20171029T020000Z
RRULE:FREQ=YEARLY;BYMONTH=10;BYDAY=-1SU
END:STANDARD
END:VTIMEZONE
BEGIN:VEVENT
SUMMARY:FaBRYKA 2017
DTSTAMP:20170513T232931Z
SEQUENCE:0
UID:44-2-a07cf16d733bee2b612eb2f60165f28c@octavia.team
ORGANIZER;CN="FakeRS":powiadomienia@octavia.team
DESCRIPTION:\n\n	!!!ZMIANA MIEJSCÓWKI!!!\n\n\n\n	Więcej info: https:/
	/www.facebook.com/events/883981551736107/\n\n\n\n	\n
DTSTART:20170723T100000Z
DTEND:20170723T170000Z
END:VEVENT
END:VCALENDAR
