BEGIN:VCALENDAR
VERSION:2.0
PRODID:-//InvisionCommunity Events 4.7.12//EN
METHOD:PUBLISH
CALSCALE:GREGORIAN
REFRESH-INTERVAL:PT15M
X-PUBLISHED-TTL:PT15M
X-WR-CALNAME:Spoty
NAME:Spoty
BEGIN:VTIMEZONE
TZID:Europe/London
TZURL:http://tzurl.org/zoneinfo/Europe/London
X-LIC-LOCATION:Europe/London
BEGIN:DAYLIGHT
TZOFFSETFROM:+0000
TZOFFSETTO:+0100
TZNAME:BST
DTSTART:20180325T020000Z
RRULE:FREQ=YEARLY;BYMONTH=3;BYDAY=-1SU
END:DAYLIGHT
BEGIN:STANDARD
TZOFFSETFROM:+0100
TZOFFSETTO:+0000
TZNAME:GMT
DTSTART:20181028T020000Z
RRULE:FREQ=YEARLY;BYMONTH=10;BYDAY=-1SU
END:STANDARD
END:VTIMEZONE
BEGIN:VEVENT
SUMMARY:Spot Warszawski - Stadion Narodowy
DTSTAMP:20180421T195525Z
SEQUENCE:0
UID:76-1-a07cf16d733bee2b612eb2f60165f28c@octavia.team
ORGANIZER;CN="torzech":powiadomienia@octavia.team
DESCRIPTION:\n\n	Zapraszamy na kolejny cykliczny spot. :)\n\n\n\n\n	 \n
	\n
DTSTART:20180422T190000Z
DTEND:20180423T020000Z
END:VEVENT
END:VCALENDAR
